BEGIN:VCALENDAR
VERSION:2.0
PRODID:icalendar-ruby
CALSCALE:GREGORIAN
METHOD:PUBLISH
BEGIN:VEVENT
DTSTAMP:20260421T105233Z
UID:5-1045033@mymaplegrove.church
DTSTART:20261004T144500Z
DTEND:20261004T154500Z
CLASS:PUBLIC
CREATED:20260420T201417
DESCRIPTION:Sunday Worship
LAST-MODIFIED:20260420T201417
LOCATION:
SUMMARY:Sunday Worship
URL;VALUE=URI:https://www.mymaplegrove.church/events/sunday-worship/2026-10
 -04
END:VEVENT
END:VCALENDAR
