BEGIN:VCALENDAR
VERSION:2.0
PRODID:icalendar-ruby
CALSCALE:GREGORIAN
METHOD:PUBLISH
BEGIN:VEVENT
DTSTAMP:20260421T121849Z
UID:5-1045718@mymaplegrove.church
DTSTART:20261011T144500Z
DTEND:20261011T154500Z
CLASS:PUBLIC
CREATED:20260421T072041
DESCRIPTION:Sunday Worship
LAST-MODIFIED:20260421T072041
LOCATION:
SUMMARY:Sunday Worship
URL;VALUE=URI:https://www.mymaplegrove.church/events/sunday-worship/2026-10
 -11
END:VEVENT
END:VCALENDAR
