BEGIN:VCALENDAR
VERSION:2.0
PRODID:icalendar-ruby
CALSCALE:GREGORIAN
METHOD:PUBLISH
BEGIN:VEVENT
DTSTAMP:20260421T155940Z
UID:5-1046404@mymaplegrove.church
DTSTART:20261025T144500Z
DTEND:20261025T154500Z
CLASS:PUBLIC
CREATED:20260421T095617
DESCRIPTION:Sunday Worship
LAST-MODIFIED:20260421T095617
LOCATION:
SUMMARY:Sunday Worship
URL;VALUE=URI:https://www.mymaplegrove.church/events/sunday-worship/2026-10
 -25
END:VEVENT
END:VCALENDAR
