BEGIN:VCALENDAR
VERSION:2.0
PRODID:icalendar-ruby
CALSCALE:GREGORIAN
METHOD:PUBLISH
BEGIN:VEVENT
DTSTAMP:20260421T174240Z
UID:5-1047089@mymaplegrove.church
DTSTART:20261101T154500Z
DTEND:20261101T164500Z
CLASS:PUBLIC
CREATED:20260421T123430
DESCRIPTION:Sunday Worship
LAST-MODIFIED:20260421T123430
LOCATION:
SUMMARY:Sunday Worship
URL;VALUE=URI:https://www.mymaplegrove.church/events/sunday-worship/2026-11
 -01
END:VEVENT
END:VCALENDAR
